BEGIN:VCALENDAR
VERSION:2.0
PRODID:-//International Driving School - ECPv6.15.20//NONSGML v1.0//EN
CALSCALE:GREGORIAN
METHOD:PUBLISH
X-WR-CALNAME:International Driving School
X-ORIGINAL-URL:https://internationaldrivingmd.com
X-WR-CALDESC:Events for International Driving School
REFRESH-INTERVAL;VALUE=DURATION:PT1H
X-Robots-Tag:noindex
X-PUBLISHED-TTL:PT1H
BEGIN:VTIMEZONE
TZID:America/New_York
BEGIN:DAYLIGHT
TZOFFSETFROM:-0500
TZOFFSETTO:-0400
TZNAME:EDT
DTSTART:20250309T070000
END:DAYLIGHT
BEGIN:STANDARD
TZOFFSETFROM:-0400
TZOFFSETTO:-0500
TZNAME:EST
DTSTART:20251102T060000
END:STANDARD
BEGIN:DAYLIGHT
TZOFFSETFROM:-0500
TZOFFSETTO:-0400
TZNAME:EDT
DTSTART:20260308T070000
END:DAYLIGHT
BEGIN:STANDARD
TZOFFSETFROM:-0400
TZOFFSETTO:-0500
TZNAME:EST
DTSTART:20261101T060000
END:STANDARD
BEGIN:DAYLIGHT
TZOFFSETFROM:-0500
TZOFFSETTO:-0400
TZNAME:EDT
DTSTART:20270314T070000
END:DAYLIGHT
BEGIN:STANDARD
TZOFFSETFROM:-0400
TZOFFSETTO:-0500
TZNAME:EST
DTSTART:20271107T060000
END:STANDARD
END:VTIMEZONE
BEGIN:VEVENT
DTSTART;VALUE=DATE:20260504
DTEND;VALUE=DATE:20260505
DTSTAMP:20260424T090000
CREATED:20260420T161924Z
LAST-MODIFIED:20260420T161924Z
UID:10000210-1777852800-1777939199@internationaldrivingmd.com
SUMMARY:Lesson 1 (6-9:15PM)
DESCRIPTION:
URL:https://internationaldrivingmd.com/event/lesson-1-6-915pm-13/
END:VEVENT
BEGIN:VEVENT
DTSTART;VALUE=DATE:20260505
DTEND;VALUE=DATE:20260506
DTSTAMP:20260424T090000
CREATED:20260420T161930Z
LAST-MODIFIED:20260420T161930Z
UID:10000211-1777939200-1778025599@internationaldrivingmd.com
SUMMARY:Lesson 2 (6-9:15PM)
DESCRIPTION:
URL:https://internationaldrivingmd.com/event/lesson-2-6-915pm-13/
END:VEVENT
BEGIN:VEVENT
DTSTART;VALUE=DATE:20260507
DTEND;VALUE=DATE:20260508
DTSTAMP:20260424T090000
CREATED:20260420T161935Z
LAST-MODIFIED:20260420T161935Z
UID:10000212-1778112000-1778198399@internationaldrivingmd.com
SUMMARY:Lesson 3 (6-9:15PM)
DESCRIPTION:
URL:https://internationaldrivingmd.com/event/lesson-3-6-915pm-13/
END:VEVENT
BEGIN:VEVENT
DTSTART;VALUE=DATE:20260511
DTEND;VALUE=DATE:20260512
DTSTAMP:20260424T090000
CREATED:20260420T161943Z
LAST-MODIFIED:20260420T161943Z
UID:10000213-1778457600-1778543999@internationaldrivingmd.com
SUMMARY:Lesson 4 (6-9:15PM)
DESCRIPTION:
URL:https://internationaldrivingmd.com/event/lesson-4-6-915pm-13/
END:VEVENT
BEGIN:VEVENT
DTSTART;VALUE=DATE:20260512
DTEND;VALUE=DATE:20260513
DTSTAMP:20260424T090000
CREATED:20260420T161947Z
LAST-MODIFIED:20260420T161947Z
UID:10000214-1778544000-1778630399@internationaldrivingmd.com
SUMMARY:Lesson 5 (6-9:15PM)
DESCRIPTION:
URL:https://internationaldrivingmd.com/event/lesson-5-6-915pm-13/
END:VEVENT
BEGIN:VEVENT
DTSTART;VALUE=DATE:20260514
DTEND;VALUE=DATE:20260515
DTSTAMP:20260424T090000
CREATED:20260420T161951Z
LAST-MODIFIED:20260420T161951Z
UID:10000215-1778716800-1778803199@internationaldrivingmd.com
SUMMARY:Lesson 6 (6-9:15PM)
DESCRIPTION:
URL:https://internationaldrivingmd.com/event/lesson-6-6-915pm-13/
END:VEVENT
BEGIN:VEVENT
DTSTART;VALUE=DATE:20260518
DTEND;VALUE=DATE:20260519
DTSTAMP:20260424T090000
CREATED:20260420T161958Z
LAST-MODIFIED:20260420T161958Z
UID:10000216-1779062400-1779148799@internationaldrivingmd.com
SUMMARY:Lesson 7 (6-9:15PM)
DESCRIPTION:
URL:https://internationaldrivingmd.com/event/lesson-7-6-915pm-13/
END:VEVENT
BEGIN:VEVENT
DTSTART;VALUE=DATE:20260519
DTEND;VALUE=DATE:20260520
DTSTAMP:20260424T090000
CREATED:20260420T162003Z
LAST-MODIFIED:20260420T162003Z
UID:10000217-1779148800-1779235199@internationaldrivingmd.com
SUMMARY:Lesson 8 (6-9:15PM)
DESCRIPTION:
URL:https://internationaldrivingmd.com/event/lesson-8-6-915pm-13/
END:VEVENT
BEGIN:VEVENT
DTSTART;VALUE=DATE:20260521
DTEND;VALUE=DATE:20260522
DTSTAMP:20260424T090000
CREATED:20260420T162010Z
LAST-MODIFIED:20260420T162010Z
UID:10000218-1779321600-1779407999@internationaldrivingmd.com
SUMMARY:Lesson 9 (6-9:15PM)
DESCRIPTION:
URL:https://internationaldrivingmd.com/event/lesson-9-6-915pm-13/
END:VEVENT
BEGIN:VEVENT
DTSTART;VALUE=DATE:20260522
DTEND;VALUE=DATE:20260523
DTSTAMP:20260424T090000
CREATED:20260420T162017Z
LAST-MODIFIED:20260420T162017Z
UID:10000219-1779408000-1779494399@internationaldrivingmd.com
SUMMARY:Lesson 10 (6-9:15PM)
DESCRIPTION:
URL:https://internationaldrivingmd.com/event/lesson-10-6-915pm-13/
END:VEVENT
BEGIN:VEVENT
DTSTART;VALUE=DATE:20260522
DTEND;VALUE=DATE:20260523
DTSTAMP:20260424T090000
CREATED:20260420T162023Z
LAST-MODIFIED:20260420T162023Z
UID:10000220-1779408000-1779494399@internationaldrivingmd.com
SUMMARY:Final Exam (6-9:15PM)
DESCRIPTION:
URL:https://internationaldrivingmd.com/event/final-exam-6-915pm-13/
END:VEVENT
END:VCALENDAR