BEGIN:VCALENDAR
VERSION:2.0
PRODID:-//International Driving School - ECPv6.15.20//NONSGML v1.0//EN
CALSCALE:GREGORIAN
METHOD:PUBLISH
X-WR-CALNAME:International Driving School
X-ORIGINAL-URL:https://internationaldrivingmd.com
X-WR-CALDESC:Events for International Driving School
REFRESH-INTERVAL;VALUE=DURATION:PT1H
X-Robots-Tag:noindex
X-PUBLISHED-TTL:PT1H
BEGIN:VTIMEZONE
TZID:America/New_York
BEGIN:DAYLIGHT
TZOFFSETFROM:-0500
TZOFFSETTO:-0400
TZNAME:EDT
DTSTART:20250309T070000
END:DAYLIGHT
BEGIN:STANDARD
TZOFFSETFROM:-0400
TZOFFSETTO:-0500
TZNAME:EST
DTSTART:20251102T060000
END:STANDARD
BEGIN:DAYLIGHT
TZOFFSETFROM:-0500
TZOFFSETTO:-0400
TZNAME:EDT
DTSTART:20260308T070000
END:DAYLIGHT
BEGIN:STANDARD
TZOFFSETFROM:-0400
TZOFFSETTO:-0500
TZNAME:EST
DTSTART:20261101T060000
END:STANDARD
BEGIN:DAYLIGHT
TZOFFSETFROM:-0500
TZOFFSETTO:-0400
TZNAME:EDT
DTSTART:20270314T070000
END:DAYLIGHT
BEGIN:STANDARD
TZOFFSETFROM:-0400
TZOFFSETTO:-0500
TZNAME:EST
DTSTART:20271107T060000
END:STANDARD
END:VTIMEZONE
BEGIN:VEVENT
DTSTART;VALUE=DATE:20260326
DTEND;VALUE=DATE:20260327
DTSTAMP:20260424T113852
CREATED:20260212T003410Z
LAST-MODIFIED:20260212T003410Z
UID:10000197-1774483200-1774569599@internationaldrivingmd.com
SUMMARY:Lesson 10 (6-9:15PM)
DESCRIPTION:
URL:https://internationaldrivingmd.com/event/lesson-10-6-915pm-11/
END:VEVENT
BEGIN:VEVENT
DTSTART;VALUE=DATE:20260324
DTEND;VALUE=DATE:20260325
DTSTAMP:20260424T113852
CREATED:20260212T003403Z
LAST-MODIFIED:20260212T003403Z
UID:10000196-1774310400-1774396799@internationaldrivingmd.com
SUMMARY:Lesson 9 (6-9:15PM)
DESCRIPTION:
URL:https://internationaldrivingmd.com/event/lesson-9-6-915pm-11/
END:VEVENT
BEGIN:VEVENT
DTSTART;VALUE=DATE:20260323
DTEND;VALUE=DATE:20260324
DTSTAMP:20260424T113852
CREATED:20260212T003356Z
LAST-MODIFIED:20260212T003356Z
UID:10000195-1774224000-1774310399@internationaldrivingmd.com
SUMMARY:Lesson 8 (6-9:15PM)
DESCRIPTION:
URL:https://internationaldrivingmd.com/event/lesson-8-6-915pm-11/
END:VEVENT
BEGIN:VEVENT
DTSTART;VALUE=DATE:20260319
DTEND;VALUE=DATE:20260320
DTSTAMP:20260424T113852
CREATED:20260212T003335Z
LAST-MODIFIED:20260212T003335Z
UID:10000194-1773878400-1773964799@internationaldrivingmd.com
SUMMARY:Lesson 7 (6-9:15PM)
DESCRIPTION:
URL:https://internationaldrivingmd.com/event/lesson-7-6-915pm-11/
END:VEVENT
BEGIN:VEVENT
DTSTART;VALUE=DATE:20260317
DTEND;VALUE=DATE:20260318
DTSTAMP:20260424T113852
CREATED:20260212T003326Z
LAST-MODIFIED:20260212T003326Z
UID:10000193-1773705600-1773791999@internationaldrivingmd.com
SUMMARY:Lesson 6 (6-9:15PM)
DESCRIPTION:
URL:https://internationaldrivingmd.com/event/lesson-6-6-915pm-11/
END:VEVENT
BEGIN:VEVENT
DTSTART;VALUE=DATE:20260316
DTEND;VALUE=DATE:20260317
DTSTAMP:20260424T113852
CREATED:20260212T003319Z
LAST-MODIFIED:20260212T003319Z
UID:10000192-1773619200-1773705599@internationaldrivingmd.com
SUMMARY:Lesson 5 (6-9:15PM)
DESCRIPTION:
URL:https://internationaldrivingmd.com/event/lesson-5-6-915pm-11/
END:VEVENT
BEGIN:VEVENT
DTSTART;VALUE=DATE:20260312
DTEND;VALUE=DATE:20260313
DTSTAMP:20260424T113852
CREATED:20260212T003310Z
LAST-MODIFIED:20260212T003310Z
UID:10000191-1773273600-1773359999@internationaldrivingmd.com
SUMMARY:Lesson 4 (6-9:15PM)
DESCRIPTION:
URL:https://internationaldrivingmd.com/event/lesson-4-6-915pm-11/
END:VEVENT
BEGIN:VEVENT
DTSTART;VALUE=DATE:20260310
DTEND;VALUE=DATE:20260311
DTSTAMP:20260424T113852
CREATED:20260212T003303Z
LAST-MODIFIED:20260212T003303Z
UID:10000190-1773100800-1773187199@internationaldrivingmd.com
SUMMARY:Lesson 3 (6-9:15PM)
DESCRIPTION:
URL:https://internationaldrivingmd.com/event/lesson-3-6-915pm-11/
END:VEVENT
BEGIN:VEVENT
DTSTART;VALUE=DATE:20260309
DTEND;VALUE=DATE:20260310
DTSTAMP:20260424T113852
CREATED:20260212T003255Z
LAST-MODIFIED:20260212T003255Z
UID:10000189-1773014400-1773100799@internationaldrivingmd.com
SUMMARY:Lesson 2 (6-9:15PM)
DESCRIPTION:
URL:https://internationaldrivingmd.com/event/lesson-2-6-915pm-11/
END:VEVENT
BEGIN:VEVENT
DTSTART;VALUE=DATE:20260305
DTEND;VALUE=DATE:20260306
DTSTAMP:20260424T113852
CREATED:20260212T003240Z
LAST-MODIFIED:20260212T003240Z
UID:10000188-1772668800-1772755199@internationaldrivingmd.com
SUMMARY:Lesson 1 (6-9:15PM)
DESCRIPTION:
URL:https://internationaldrivingmd.com/event/lesson-1-6-915pm-11/
END:VEVENT
BEGIN:VEVENT
DTSTART;VALUE=DATE:20260220
DTEND;VALUE=DATE:20260221
DTSTAMP:20260424T113852
CREATED:20260114T171026Z
LAST-MODIFIED:20260114T171026Z
UID:10000187-1771545600-1771631999@internationaldrivingmd.com
SUMMARY:Final Exam (6-9:15PM)
DESCRIPTION:
URL:https://internationaldrivingmd.com/event/final-exam-6-915pm-10/
END:VEVENT
BEGIN:VEVENT
DTSTART;VALUE=DATE:20260220
DTEND;VALUE=DATE:20260221
DTSTAMP:20260424T113852
CREATED:20260114T171021Z
LAST-MODIFIED:20260114T171021Z
UID:10000186-1771545600-1771631999@internationaldrivingmd.com
SUMMARY:Lesson 10 (6-9:15PM)
DESCRIPTION:
URL:https://internationaldrivingmd.com/event/lesson-10-6-915pm-10/
END:VEVENT
BEGIN:VEVENT
DTSTART;VALUE=DATE:20260219
DTEND;VALUE=DATE:20260220
DTSTAMP:20260424T113852
CREATED:20260114T171017Z
LAST-MODIFIED:20260114T171017Z
UID:10000185-1771459200-1771545599@internationaldrivingmd.com
SUMMARY:Lesson 9 (6-9:15PM)
DESCRIPTION:
URL:https://internationaldrivingmd.com/event/lesson-9-6-915pm-10/
END:VEVENT
BEGIN:VEVENT
DTSTART;VALUE=DATE:20260217
DTEND;VALUE=DATE:20260218
DTSTAMP:20260424T113852
CREATED:20260114T171011Z
LAST-MODIFIED:20260114T171011Z
UID:10000184-1771286400-1771372799@internationaldrivingmd.com
SUMMARY:Lesson 8 (6-9:15PM)
DESCRIPTION:
URL:https://internationaldrivingmd.com/event/lesson-8-6-915pm-10/
END:VEVENT
BEGIN:VEVENT
DTSTART;VALUE=DATE:20260216
DTEND;VALUE=DATE:20260217
DTSTAMP:20260424T113852
CREATED:20260114T171006Z
LAST-MODIFIED:20260114T171006Z
UID:10000183-1771200000-1771286399@internationaldrivingmd.com
SUMMARY:Lesson 7 (6-9:15PM)
DESCRIPTION:
URL:https://internationaldrivingmd.com/event/lesson-7-6-915pm-10/
END:VEVENT
BEGIN:VEVENT
DTSTART;VALUE=DATE:20260212
DTEND;VALUE=DATE:20260213
DTSTAMP:20260424T113852
CREATED:20260114T170959Z
LAST-MODIFIED:20260114T170959Z
UID:10000182-1770854400-1770940799@internationaldrivingmd.com
SUMMARY:Lesson 6 (6-9:15PM)
DESCRIPTION:
URL:https://internationaldrivingmd.com/event/lesson-6-6-915pm-10/
END:VEVENT
BEGIN:VEVENT
DTSTART;VALUE=DATE:20260210
DTEND;VALUE=DATE:20260211
DTSTAMP:20260424T113852
CREATED:20260114T170953Z
LAST-MODIFIED:20260114T170953Z
UID:10000181-1770681600-1770767999@internationaldrivingmd.com
SUMMARY:Lesson 5 (6-9:15PM)
DESCRIPTION:
URL:https://internationaldrivingmd.com/event/lesson-5-6-915pm-10/
END:VEVENT
BEGIN:VEVENT
DTSTART;VALUE=DATE:20260209
DTEND;VALUE=DATE:20260210
DTSTAMP:20260424T113852
CREATED:20260114T170948Z
LAST-MODIFIED:20260114T170948Z
UID:10000180-1770595200-1770681599@internationaldrivingmd.com
SUMMARY:Lesson 4 (6-9:15PM)
DESCRIPTION:
URL:https://internationaldrivingmd.com/event/lesson-4-6-915pm-10/
END:VEVENT
BEGIN:VEVENT
DTSTART;VALUE=DATE:20260205
DTEND;VALUE=DATE:20260206
DTSTAMP:20260424T113852
CREATED:20260114T170937Z
LAST-MODIFIED:20260114T170937Z
UID:10000179-1770249600-1770335999@internationaldrivingmd.com
SUMMARY:Lesson 3 (6-9:15PM)
DESCRIPTION:
URL:https://internationaldrivingmd.com/event/lesson-3-6-915pm-10/
END:VEVENT
BEGIN:VEVENT
DTSTART;VALUE=DATE:20260203
DTEND;VALUE=DATE:20260204
DTSTAMP:20260424T113852
CREATED:20260114T170915Z
LAST-MODIFIED:20260114T170915Z
UID:10000178-1770076800-1770163199@internationaldrivingmd.com
SUMMARY:Lesson 2 (6-9:15PM)
DESCRIPTION:
URL:https://internationaldrivingmd.com/event/lesson-2-6-915pm-10/
END:VEVENT
BEGIN:VEVENT
DTSTART;VALUE=DATE:20260202
DTEND;VALUE=DATE:20260203
DTSTAMP:20260424T113852
CREATED:20260114T170909Z
LAST-MODIFIED:20260114T170909Z
UID:10000177-1769990400-1770076799@internationaldrivingmd.com
SUMMARY:Lesson 1 (6-9:15PM)
DESCRIPTION:
URL:https://internationaldrivingmd.com/event/lesson-1-6-915pm-10/
END:VEVENT
BEGIN:VEVENT
DTSTART;VALUE=DATE:20260123
DTEND;VALUE=DATE:20260124
DTSTAMP:20260424T113852
CREATED:20251209T172516Z
LAST-MODIFIED:20251209T172516Z
UID:10000176-1769126400-1769212799@internationaldrivingmd.com
SUMMARY:Final Exam (6-9:15PM)
DESCRIPTION:
URL:https://internationaldrivingmd.com/event/final-exam-6-915pm-9/
END:VEVENT
BEGIN:VEVENT
DTSTART;VALUE=DATE:20260123
DTEND;VALUE=DATE:20260124
DTSTAMP:20260424T113852
CREATED:20251209T172510Z
LAST-MODIFIED:20251209T172510Z
UID:10000175-1769126400-1769212799@internationaldrivingmd.com
SUMMARY:Lesson 10 (6-9:15PM)
DESCRIPTION:
URL:https://internationaldrivingmd.com/event/lesson-10-6-915pm-9/
END:VEVENT
BEGIN:VEVENT
DTSTART;VALUE=DATE:20260122
DTEND;VALUE=DATE:20260123
DTSTAMP:20260424T113852
CREATED:20251209T172504Z
LAST-MODIFIED:20251209T172504Z
UID:10000174-1769040000-1769126399@internationaldrivingmd.com
SUMMARY:Lesson 9 (6-9:15PM)
DESCRIPTION:
URL:https://internationaldrivingmd.com/event/lesson-9-6-915pm-9/
END:VEVENT
BEGIN:VEVENT
DTSTART;VALUE=DATE:20260120
DTEND;VALUE=DATE:20260121
DTSTAMP:20260424T113852
CREATED:20251209T172454Z
LAST-MODIFIED:20251209T172454Z
UID:10000173-1768867200-1768953599@internationaldrivingmd.com
SUMMARY:Lesson 8 (6-9:15PM)
DESCRIPTION:
URL:https://internationaldrivingmd.com/event/lesson-8-6-915pm-9/
END:VEVENT
BEGIN:VEVENT
DTSTART;VALUE=DATE:20260119
DTEND;VALUE=DATE:20260120
DTSTAMP:20260424T113852
CREATED:20251209T172445Z
LAST-MODIFIED:20251209T172445Z
UID:10000172-1768780800-1768867199@internationaldrivingmd.com
SUMMARY:Lesson 7 (6-9:15PM)
DESCRIPTION:
URL:https://internationaldrivingmd.com/event/lesson-7-6-915pm-9/
END:VEVENT
BEGIN:VEVENT
DTSTART;VALUE=DATE:20260115
DTEND;VALUE=DATE:20260116
DTSTAMP:20260424T113852
CREATED:20251209T172439Z
LAST-MODIFIED:20251209T172439Z
UID:10000171-1768435200-1768521599@internationaldrivingmd.com
SUMMARY:Lesson 6 (6-9:15PM)
DESCRIPTION:
URL:https://internationaldrivingmd.com/event/lesson-6-6-915pm-9/
END:VEVENT
BEGIN:VEVENT
DTSTART;VALUE=DATE:20260113
DTEND;VALUE=DATE:20260114
DTSTAMP:20260424T113852
CREATED:20251209T172432Z
LAST-MODIFIED:20251209T172432Z
UID:10000170-1768262400-1768348799@internationaldrivingmd.com
SUMMARY:Lesson 5 (6-9:15PM)
DESCRIPTION:
URL:https://internationaldrivingmd.com/event/lesson-5-6-915pm-9/
END:VEVENT
BEGIN:VEVENT
DTSTART;VALUE=DATE:20260112
DTEND;VALUE=DATE:20260113
DTSTAMP:20260424T113852
CREATED:20251209T172426Z
LAST-MODIFIED:20251209T172426Z
UID:10000169-1768176000-1768262399@internationaldrivingmd.com
SUMMARY:Lesson 4 (6-9:15PM)
DESCRIPTION:
URL:https://internationaldrivingmd.com/event/lesson-4-6-915pm-9/
END:VEVENT
BEGIN:VEVENT
DTSTART;VALUE=DATE:20260108
DTEND;VALUE=DATE:20260109
DTSTAMP:20260424T113852
CREATED:20251209T172420Z
LAST-MODIFIED:20251209T172420Z
UID:10000168-1767830400-1767916799@internationaldrivingmd.com
SUMMARY:Lesson 3 (6-9:15PM)
DESCRIPTION:
URL:https://internationaldrivingmd.com/event/lesson-3-6-915pm-9/
END:VEVENT
END:VCALENDAR