BEGIN:VCALENDAR
VERSION:2.0
PRODID:-//International Driving School - ECPv6.15.20//NONSGML v1.0//EN
CALSCALE:GREGORIAN
METHOD:PUBLISH
X-WR-CALNAME:International Driving School
X-ORIGINAL-URL:https://internationaldrivingmd.com
X-WR-CALDESC:Events for International Driving School
REFRESH-INTERVAL;VALUE=DURATION:PT1H
X-Robots-Tag:noindex
X-PUBLISHED-TTL:PT1H
BEGIN:VTIMEZONE
TZID:America/New_York
BEGIN:DAYLIGHT
TZOFFSETFROM:-0500
TZOFFSETTO:-0400
TZNAME:EDT
DTSTART:20240310T070000
END:DAYLIGHT
BEGIN:STANDARD
TZOFFSETFROM:-0400
TZOFFSETTO:-0500
TZNAME:EST
DTSTART:20241103T060000
END:STANDARD
BEGIN:DAYLIGHT
TZOFFSETFROM:-0500
TZOFFSETTO:-0400
TZNAME:EDT
DTSTART:20250309T070000
END:DAYLIGHT
BEGIN:STANDARD
TZOFFSETFROM:-0400
TZOFFSETTO:-0500
TZNAME:EST
DTSTART:20251102T060000
END:STANDARD
BEGIN:DAYLIGHT
TZOFFSETFROM:-0500
TZOFFSETTO:-0400
TZNAME:EDT
DTSTART:20260308T070000
END:DAYLIGHT
BEGIN:STANDARD
TZOFFSETFROM:-0400
TZOFFSETTO:-0500
TZNAME:EST
DTSTART:20261101T060000
END:STANDARD
END:VTIMEZONE
BEGIN:VEVENT
DTSTART;VALUE=DATE:20250825
DTEND;VALUE=DATE:20250826
DTSTAMP:20260424T194049
CREATED:20250731T130300Z
LAST-MODIFIED:20250731T130300Z
UID:10000125-1756080000-1756166399@internationaldrivingmd.com
SUMMARY:Lesson 4 (6-9:15PM)
DESCRIPTION:
URL:https://internationaldrivingmd.com/event/lesson-4-6-915pm-5/
END:VEVENT
BEGIN:VEVENT
DTSTART;VALUE=DATE:20250821
DTEND;VALUE=DATE:20250822
DTSTAMP:20260424T194049
CREATED:20250731T130251Z
LAST-MODIFIED:20250731T130251Z
UID:10000124-1755734400-1755820799@internationaldrivingmd.com
SUMMARY:Lesson 3 (6-9:15PM)
DESCRIPTION:
URL:https://internationaldrivingmd.com/event/lesson-3-6-915pm-5/
END:VEVENT
BEGIN:VEVENT
DTSTART;VALUE=DATE:20250819
DTEND;VALUE=DATE:20250820
DTSTAMP:20260424T194049
CREATED:20250731T130243Z
LAST-MODIFIED:20250731T130243Z
UID:10000123-1755561600-1755647999@internationaldrivingmd.com
SUMMARY:Lesson 2 (6-9:15PM)
DESCRIPTION:
URL:https://internationaldrivingmd.com/event/lesson-2-6-915pm-5/
END:VEVENT
BEGIN:VEVENT
DTSTART;VALUE=DATE:20250818
DTEND;VALUE=DATE:20250819
DTSTAMP:20260424T194049
CREATED:20250731T130237Z
LAST-MODIFIED:20250731T130237Z
UID:10000122-1755475200-1755561599@internationaldrivingmd.com
SUMMARY:Lesson 1 (6-9:15PM)
DESCRIPTION:
URL:https://internationaldrivingmd.com/event/lesson-1-6-915pm-5/
END:VEVENT
BEGIN:VEVENT
DTSTART;VALUE=DATE:20250807
DTEND;VALUE=DATE:20250808
DTSTAMP:20260424T194049
CREATED:20250702T181229Z
LAST-MODIFIED:20250713T015523Z
UID:10000121-1754524800-1754611199@internationaldrivingmd.com
SUMMARY:Final Exam (6-9:15PM)
DESCRIPTION:
URL:https://internationaldrivingmd.com/event/final-exam-6-915pm-4/
END:VEVENT
BEGIN:VEVENT
DTSTART;VALUE=DATE:20250807
DTEND;VALUE=DATE:20250808
DTSTAMP:20260424T194049
CREATED:20250702T181217Z
LAST-MODIFIED:20250713T015519Z
UID:10000120-1754524800-1754611199@internationaldrivingmd.com
SUMMARY:Lesson 10 (6-9:15PM)
DESCRIPTION:
URL:https://internationaldrivingmd.com/event/lesson-10-6-915pm-4/
END:VEVENT
BEGIN:VEVENT
DTSTART;VALUE=DATE:20250805
DTEND;VALUE=DATE:20250806
DTSTAMP:20260424T194049
CREATED:20250702T181208Z
LAST-MODIFIED:20250713T015503Z
UID:10000119-1754352000-1754438399@internationaldrivingmd.com
SUMMARY:Lesson 9 (6-9:15PM)
DESCRIPTION:
URL:https://internationaldrivingmd.com/event/lesson-9-6-915pm-4/
END:VEVENT
BEGIN:VEVENT
DTSTART;VALUE=DATE:20250804
DTEND;VALUE=DATE:20250805
DTSTAMP:20260424T194049
CREATED:20250702T181156Z
LAST-MODIFIED:20250713T015456Z
UID:10000118-1754265600-1754351999@internationaldrivingmd.com
SUMMARY:Lesson 8 (6-9:15PM)
DESCRIPTION:
URL:https://internationaldrivingmd.com/event/lesson-8-6-915pm-4/
END:VEVENT
BEGIN:VEVENT
DTSTART;VALUE=DATE:20250731
DTEND;VALUE=DATE:20250801
DTSTAMP:20260424T194049
CREATED:20250702T181153Z
LAST-MODIFIED:20250713T015424Z
UID:10000117-1753920000-1754006399@internationaldrivingmd.com
SUMMARY:Lesson 7 (6-9:15PM)
DESCRIPTION:
URL:https://internationaldrivingmd.com/event/lesson-7-6-915pm-4/
END:VEVENT
BEGIN:VEVENT
DTSTART;VALUE=DATE:20250729
DTEND;VALUE=DATE:20250730
DTSTAMP:20260424T194049
CREATED:20250702T181139Z
LAST-MODIFIED:20250713T015415Z
UID:10000116-1753747200-1753833599@internationaldrivingmd.com
SUMMARY:Lesson 6 (6-9:15PM)
DESCRIPTION:
URL:https://internationaldrivingmd.com/event/lesson-6-6-915pm-4/
END:VEVENT
BEGIN:VEVENT
DTSTART;VALUE=DATE:20250728
DTEND;VALUE=DATE:20250729
DTSTAMP:20260424T194049
CREATED:20250702T181133Z
LAST-MODIFIED:20250713T015408Z
UID:10000115-1753660800-1753747199@internationaldrivingmd.com
SUMMARY:Lesson 5 (6-9:15PM)
DESCRIPTION:
URL:https://internationaldrivingmd.com/event/lesson-5-6-915pm-4/
END:VEVENT
BEGIN:VEVENT
DTSTART;VALUE=DATE:20250724
DTEND;VALUE=DATE:20250725
DTSTAMP:20260424T194049
CREATED:20250702T181126Z
LAST-MODIFIED:20250713T015401Z
UID:10000114-1753315200-1753401599@internationaldrivingmd.com
SUMMARY:Lesson 4 (6-9:15PM)
DESCRIPTION:
URL:https://internationaldrivingmd.com/event/lesson-4-6-915pm-4/
END:VEVENT
BEGIN:VEVENT
DTSTART;VALUE=DATE:20250722
DTEND;VALUE=DATE:20250723
DTSTAMP:20260424T194049
CREATED:20250702T181120Z
LAST-MODIFIED:20250713T015354Z
UID:10000113-1753142400-1753228799@internationaldrivingmd.com
SUMMARY:Lesson 3 (6-9:15PM)
DESCRIPTION:
URL:https://internationaldrivingmd.com/event/lesson-3-6-915pm-4/
END:VEVENT
BEGIN:VEVENT
DTSTART;VALUE=DATE:20250721
DTEND;VALUE=DATE:20250722
DTSTAMP:20260424T194049
CREATED:20250702T181116Z
LAST-MODIFIED:20250713T015339Z
UID:10000112-1753056000-1753142399@internationaldrivingmd.com
SUMMARY:Lesson 2 (6-9:15PM)
DESCRIPTION:
URL:https://internationaldrivingmd.com/event/lesson-2-6-915pm-4/
END:VEVENT
BEGIN:VEVENT
DTSTART;VALUE=DATE:20250717
DTEND;VALUE=DATE:20250718
DTSTAMP:20260424T194049
CREATED:20250702T181106Z
LAST-MODIFIED:20250702T181106Z
UID:10000111-1752710400-1752796799@internationaldrivingmd.com
SUMMARY:Lesson 1 (6-9:15PM)
DESCRIPTION:
URL:https://internationaldrivingmd.com/event/lesson-1-6-915pm-4/
END:VEVENT
BEGIN:VEVENT
DTSTART;VALUE=DATE:20250708
DTEND;VALUE=DATE:20250709
DTSTAMP:20260424T194049
CREATED:20250530T235855Z
LAST-MODIFIED:20250530T235855Z
UID:10000110-1751932800-1752019199@internationaldrivingmd.com
SUMMARY:Final Exam (6-9:15PM)
DESCRIPTION:
URL:https://internationaldrivingmd.com/event/final-exam-6-915pm-3/
END:VEVENT
BEGIN:VEVENT
DTSTART;VALUE=DATE:20250708
DTEND;VALUE=DATE:20250709
DTSTAMP:20260424T194049
CREATED:20250530T235838Z
LAST-MODIFIED:20250530T235838Z
UID:10000109-1751932800-1752019199@internationaldrivingmd.com
SUMMARY:Lesson 10 (6-9:15PM)
DESCRIPTION:
URL:https://internationaldrivingmd.com/event/lesson-10-6-915pm-3/
END:VEVENT
BEGIN:VEVENT
DTSTART;VALUE=DATE:20250707
DTEND;VALUE=DATE:20250708
DTSTAMP:20260424T194049
CREATED:20250530T235829Z
LAST-MODIFIED:20250530T235829Z
UID:10000108-1751846400-1751932799@internationaldrivingmd.com
SUMMARY:Lesson 9 (6-9:15PM)
DESCRIPTION:
URL:https://internationaldrivingmd.com/event/lesson-9-6-915pm-3/
END:VEVENT
BEGIN:VEVENT
DTSTART;VALUE=DATE:20250703
DTEND;VALUE=DATE:20250704
DTSTAMP:20260424T194049
CREATED:20250530T235817Z
LAST-MODIFIED:20250530T235817Z
UID:10000107-1751500800-1751587199@internationaldrivingmd.com
SUMMARY:Lesson 8 (6-9:15PM)
DESCRIPTION:
URL:https://internationaldrivingmd.com/event/lesson-8-6-915pm-3/
END:VEVENT
BEGIN:VEVENT
DTSTART;VALUE=DATE:20250701
DTEND;VALUE=DATE:20250702
DTSTAMP:20260424T194049
CREATED:20250530T235805Z
LAST-MODIFIED:20250530T235805Z
UID:10000106-1751328000-1751414399@internationaldrivingmd.com
SUMMARY:Lesson 7 (6-9:15PM)
DESCRIPTION:
URL:https://internationaldrivingmd.com/event/lesson-7-6-915pm-3/
END:VEVENT
BEGIN:VEVENT
DTSTART;VALUE=DATE:20250630
DTEND;VALUE=DATE:20250701
DTSTAMP:20260424T194049
CREATED:20250530T235756Z
LAST-MODIFIED:20250530T235756Z
UID:10000105-1751241600-1751327999@internationaldrivingmd.com
SUMMARY:Lesson 6 (6-9:15PM)
DESCRIPTION:
URL:https://internationaldrivingmd.com/event/lesson-6-6-915pm-3/
END:VEVENT
BEGIN:VEVENT
DTSTART;VALUE=DATE:20250626
DTEND;VALUE=DATE:20250627
DTSTAMP:20260424T194049
CREATED:20250530T235737Z
LAST-MODIFIED:20250530T235737Z
UID:10000104-1750896000-1750982399@internationaldrivingmd.com
SUMMARY:Lesson 5 (6-9:15PM)
DESCRIPTION:
URL:https://internationaldrivingmd.com/event/lesson-5-6-915pm-3/
END:VEVENT
BEGIN:VEVENT
DTSTART;VALUE=DATE:20250624
DTEND;VALUE=DATE:20250625
DTSTAMP:20260424T194049
CREATED:20250530T235729Z
LAST-MODIFIED:20250530T235729Z
UID:10000103-1750723200-1750809599@internationaldrivingmd.com
SUMMARY:Lesson 4 (6-9:15PM)
DESCRIPTION:
URL:https://internationaldrivingmd.com/event/lesson-4-6-915pm-3/
END:VEVENT
BEGIN:VEVENT
DTSTART;VALUE=DATE:20250623
DTEND;VALUE=DATE:20250624
DTSTAMP:20260424T194049
CREATED:20250530T235722Z
LAST-MODIFIED:20250530T235722Z
UID:10000102-1750636800-1750723199@internationaldrivingmd.com
SUMMARY:Lesson 3 (6-9:15PM)
DESCRIPTION:
URL:https://internationaldrivingmd.com/event/lesson-3-6-915pm-3/
END:VEVENT
BEGIN:VEVENT
DTSTART;VALUE=DATE:20250620
DTEND;VALUE=DATE:20250621
DTSTAMP:20260424T194049
CREATED:20250530T235710Z
LAST-MODIFIED:20250530T235710Z
UID:10000101-1750377600-1750463999@internationaldrivingmd.com
SUMMARY:Lesson 2 (6-9:15PM)
DESCRIPTION:
URL:https://internationaldrivingmd.com/event/lesson-2-6-915pm-3/
END:VEVENT
BEGIN:VEVENT
DTSTART;VALUE=DATE:20250619
DTEND;VALUE=DATE:20250620
DTSTAMP:20260424T194049
CREATED:20250530T235655Z
LAST-MODIFIED:20250530T235655Z
UID:10000100-1750291200-1750377599@internationaldrivingmd.com
SUMMARY:Lesson 1 (6-9:15PM)
DESCRIPTION:
URL:https://internationaldrivingmd.com/event/lesson-1-6-915pm-3/
END:VEVENT
BEGIN:VEVENT
DTSTART;VALUE=DATE:20250605
DTEND;VALUE=DATE:20250606
DTSTAMP:20260424T194049
CREATED:20250428T141236Z
LAST-MODIFIED:20250517T150056Z
UID:10000099-1749081600-1749167999@internationaldrivingmd.com
SUMMARY:Final Exam (6-9:15PM)
DESCRIPTION:
URL:https://internationaldrivingmd.com/event/final-exam-6-915pm-2/
END:VEVENT
BEGIN:VEVENT
DTSTART;VALUE=DATE:20250605
DTEND;VALUE=DATE:20250606
DTSTAMP:20260424T194049
CREATED:20250428T141230Z
LAST-MODIFIED:20250517T150051Z
UID:10000098-1749081600-1749167999@internationaldrivingmd.com
SUMMARY:Lesson 10 (6-9:15PM)
DESCRIPTION:
URL:https://internationaldrivingmd.com/event/lesson-10-6-915pm-2/
END:VEVENT
BEGIN:VEVENT
DTSTART;VALUE=DATE:20250603
DTEND;VALUE=DATE:20250604
DTSTAMP:20260424T194049
CREATED:20250428T141221Z
LAST-MODIFIED:20250517T150046Z
UID:10000097-1748908800-1748995199@internationaldrivingmd.com
SUMMARY:Lesson 9 (6-9:15PM)
DESCRIPTION:
URL:https://internationaldrivingmd.com/event/lesson-9-6-915pm-2/
END:VEVENT
BEGIN:VEVENT
DTSTART;VALUE=DATE:20250602
DTEND;VALUE=DATE:20250603
DTSTAMP:20260424T194049
CREATED:20250428T140606Z
LAST-MODIFIED:20250517T150031Z
UID:10000096-1748822400-1748908799@internationaldrivingmd.com
SUMMARY:Lesson 8 (6-9:15PM)
DESCRIPTION:
URL:https://internationaldrivingmd.com/event/lesson-8-6-915pm-2/
END:VEVENT
END:VCALENDAR